BEGIN:VCALENDAR
VERSION:2.0
PRODID:-//Essex North Shore - ECPv6.10.0//NONSGML v1.0//EN
CALSCALE:GREGORIAN
METHOD:PUBLISH
X-WR-CALNAME:Essex North Shore
X-ORIGINAL-URL:https://essextech-wp-hbhmagetdth4a5ga.eastus2-01.azurewebsites.net
X-WR-CALDESC:Events for Essex North Shore
REFRESH-INTERVAL;VALUE=DURATION:PT1H
X-Robots-Tag:noindex
X-PUBLISHED-TTL:PT1H
BEGIN:VTIMEZONE
TZID:America/New_York
BEGIN:DAYLIGHT
TZOFFSETFROM:-0500
TZOFFSETTO:-0400
TZNAME:EDT
DTSTART:20250309T070000
END:DAYLIGHT
BEGIN:STANDARD
TZOFFSETFROM:-0400
TZOFFSETTO:-0500
TZNAME:EST
DTSTART:20251102T060000
END:STANDARD
END:VTIMEZONE
BEGIN:VEVENT
DTSTART;TZID=America/New_York:20251003T000000
DTEND;TZID=America/New_York:20251013T235959
DTSTAMP:20260424T121649
CREATED:20250425T231131Z
LAST-MODIFIED:20251013T232636Z
UID:10000927-1759449600-1760399999@essextech-wp-hbhmagetdth4a5ga.eastus2-01.azurewebsites.net
SUMMARY:Topsfield Fair
DESCRIPTION:
URL:https://essextech-wp-hbhmagetdth4a5ga.eastus2-01.azurewebsites.net/event/topsfield-fair-5/
CATEGORIES:School Calendar
END:VEVENT
BEGIN:VEVENT
DTSTART;TZID=America/New_York:20251006T000000
DTEND;TZID=America/New_York:20251006T235959
DTSTAMP:20260424T121649
CREATED:20250425T231034Z
LAST-MODIFIED:20251006T235844Z
UID:10000920-1759708800-1759795199@essextech-wp-hbhmagetdth4a5ga.eastus2-01.azurewebsites.net
SUMMARY:Day 9 Green
DESCRIPTION:
URL:https://essextech-wp-hbhmagetdth4a5ga.eastus2-01.azurewebsites.net/event/day-9-green-194/
CATEGORIES:School Calendar
END:VEVENT
BEGIN:VEVENT
DTSTART;TZID=America/New_York:20251007T000000
DTEND;TZID=America/New_York:20251007T235959
DTSTAMP:20260424T121649
CREATED:20250425T231036Z
LAST-MODIFIED:20251006T235844Z
UID:10000922-1759795200-1759881599@essextech-wp-hbhmagetdth4a5ga.eastus2-01.azurewebsites.net
SUMMARY:Day 10 Green
DESCRIPTION:
URL:https://essextech-wp-hbhmagetdth4a5ga.eastus2-01.azurewebsites.net/event/day-10-green-217/
CATEGORIES:School Calendar
END:VEVENT
BEGIN:VEVENT
DTSTART;TZID=America/New_York:20251008T000000
DTEND;TZID=America/New_York:20251008T235959
DTSTAMP:20260424T121649
CREATED:20250425T231035Z
LAST-MODIFIED:20251008T225617Z
UID:10000921-1759881600-1759967999@essextech-wp-hbhmagetdth4a5ga.eastus2-01.azurewebsites.net
SUMMARY:Mentor Meeting
DESCRIPTION:
URL:https://essextech-wp-hbhmagetdth4a5ga.eastus2-01.azurewebsites.net/event/mentor-meeting-369/
CATEGORIES:School Calendar
END:VEVENT
BEGIN:VEVENT
DTSTART;TZID=America/New_York:20251008T000000
DTEND;TZID=America/New_York:20251008T235959
DTSTAMP:20260424T121649
CREATED:20250425T231130Z
LAST-MODIFIED:20251008T225617Z
UID:10000925-1759881600-1759967999@essextech-wp-hbhmagetdth4a5ga.eastus2-01.azurewebsites.net
SUMMARY:Department Meeting
DESCRIPTION:
URL:https://essextech-wp-hbhmagetdth4a5ga.eastus2-01.azurewebsites.net/event/department-meeting-60/
CATEGORIES:School Calendar
END:VEVENT
BEGIN:VEVENT
DTSTART;TZID=America/New_York:20251008T000000
DTEND;TZID=America/New_York:20251008T235959
DTSTAMP:20260424T121649
CREATED:20250425T231131Z
LAST-MODIFIED:20251008T225616Z
UID:10000926-1759881600-1759967999@essextech-wp-hbhmagetdth4a5ga.eastus2-01.azurewebsites.net
SUMMARY:Day 1 Blue
DESCRIPTION:
URL:https://essextech-wp-hbhmagetdth4a5ga.eastus2-01.azurewebsites.net/event/day-1-blue-203/
CATEGORIES:School Calendar
END:VEVENT
BEGIN:VEVENT
DTSTART;TZID=America/New_York:20251009T000000
DTEND;TZID=America/New_York:20251009T235959
DTSTAMP:20260424T121649
CREATED:20250425T231129Z
LAST-MODIFIED:20251009T231217Z
UID:10000924-1759968000-1760054399@essextech-wp-hbhmagetdth4a5ga.eastus2-01.azurewebsites.net
SUMMARY:Day 2 Blue
DESCRIPTION:
URL:https://essextech-wp-hbhmagetdth4a5ga.eastus2-01.azurewebsites.net/event/day-2-blue-159/
CATEGORIES:School Calendar
END:VEVENT
BEGIN:VEVENT
DTSTART;TZID=America/New_York:20251009T173000
DTEND;TZID=America/New_York:20251009T183000
DTSTAMP:20260424T121649
CREATED:20250728T225008Z
LAST-MODIFIED:20251008T225618Z
UID:10001117-1760031000-1760034600@essextech-wp-hbhmagetdth4a5ga.eastus2-01.azurewebsites.net
SUMMARY:School Committee Meeting
DESCRIPTION:
URL:https://essextech-wp-hbhmagetdth4a5ga.eastus2-01.azurewebsites.net/event/school-committee-meeting-105/
CATEGORIES:School Calendar
END:VEVENT
BEGIN:VEVENT
DTSTART;TZID=America/New_York:20251010T000000
DTEND;TZID=America/New_York:20251010T235959
DTSTAMP:20260424T121649
CREATED:20250425T231037Z
LAST-MODIFIED:20251010T234209Z
UID:10000923-1760054400-1760140799@essextech-wp-hbhmagetdth4a5ga.eastus2-01.azurewebsites.net
SUMMARY:Day 3 Blue
DESCRIPTION:
URL:https://essextech-wp-hbhmagetdth4a5ga.eastus2-01.azurewebsites.net/event/day-3-blue-135/
CATEGORIES:School Calendar
END:VEVENT
END:VCALENDAR