BEGIN:VCALENDAR
VERSION:2.0
PRODID:-//Essex North Shore - ECPv6.10.0//NONSGML v1.0//EN
CALSCALE:GREGORIAN
METHOD:PUBLISH
X-WR-CALNAME:Essex North Shore
X-ORIGINAL-URL:https://essextech-wp-hbhmagetdth4a5ga.eastus2-01.azurewebsites.net
X-WR-CALDESC:Events for Essex North Shore
REFRESH-INTERVAL;VALUE=DURATION:PT1H
X-Robots-Tag:noindex
X-PUBLISHED-TTL:PT1H
BEGIN:VTIMEZONE
TZID:America/New_York
BEGIN:DAYLIGHT
TZOFFSETFROM:-0500
TZOFFSETTO:-0400
TZNAME:EDT
DTSTART:20250309T070000
END:DAYLIGHT
BEGIN:STANDARD
TZOFFSETFROM:-0400
TZOFFSETTO:-0500
TZNAME:EST
DTSTART:20251102T060000
END:STANDARD
END:VTIMEZONE
BEGIN:VEVENT
DTSTART;TZID=America/New_York:20250929T000000
DTEND;TZID=America/New_York:20250929T235959
DTSTAMP:20260423T115508
CREATED:20250425T231030Z
LAST-MODIFIED:20250928T235155Z
UID:10000914-1759104000-1759190399@essextech-wp-hbhmagetdth4a5ga.eastus2-01.azurewebsites.net
SUMMARY:Day 4 Blue
DESCRIPTION:
URL:https://essextech-wp-hbhmagetdth4a5ga.eastus2-01.azurewebsites.net/event/day-4-blue-135/
CATEGORIES:School Calendar
END:VEVENT
BEGIN:VEVENT
DTSTART;TZID=America/New_York:20250930T000000
DTEND;TZID=America/New_York:20250930T235959
DTSTAMP:20260423T115508
CREATED:20250425T231031Z
LAST-MODIFIED:20250930T225615Z
UID:10000915-1759190400-1759276799@essextech-wp-hbhmagetdth4a5ga.eastus2-01.azurewebsites.net
SUMMARY:Day 5 Blue
DESCRIPTION:
URL:https://essextech-wp-hbhmagetdth4a5ga.eastus2-01.azurewebsites.net/event/day-5-blue-181/
CATEGORIES:School Calendar
END:VEVENT
BEGIN:VEVENT
DTSTART;TZID=America/New_York:20251001T000000
DTEND;TZID=America/New_York:20251001T235959
DTSTAMP:20260423T115508
CREATED:20250425T231032Z
LAST-MODIFIED:20251001T231855Z
UID:10000916-1759276800-1759363199@essextech-wp-hbhmagetdth4a5ga.eastus2-01.azurewebsites.net
SUMMARY:(Hispanic Heritage Month Ends 10/15)
DESCRIPTION:
URL:https://essextech-wp-hbhmagetdth4a5ga.eastus2-01.azurewebsites.net/event/hispanic-heritage-month-ends-10-15-5/
CATEGORIES:School Calendar
END:VEVENT
BEGIN:VEVENT
DTSTART;TZID=America/New_York:20251001T000000
DTEND;TZID=America/New_York:20251001T235959
DTSTAMP:20260423T115508
CREATED:20250425T231032Z
LAST-MODIFIED:20251001T231855Z
UID:10000917-1759276800-1759363199@essextech-wp-hbhmagetdth4a5ga.eastus2-01.azurewebsites.net
SUMMARY:Day 6 Green
DESCRIPTION:
URL:https://essextech-wp-hbhmagetdth4a5ga.eastus2-01.azurewebsites.net/event/day-6-green-208/
CATEGORIES:School Calendar
END:VEVENT
BEGIN:VEVENT
DTSTART;TZID=America/New_York:20251001T000000
DTEND;TZID=America/New_York:20251001T235959
DTSTAMP:20260423T115508
CREATED:20250729T231827Z
LAST-MODIFIED:20251001T231854Z
UID:10001132-1759276800-1759363199@essextech-wp-hbhmagetdth4a5ga.eastus2-01.azurewebsites.net
SUMMARY:Faculty Meeting
DESCRIPTION:
URL:https://essextech-wp-hbhmagetdth4a5ga.eastus2-01.azurewebsites.net/event/faculty-meeting-39/
CATEGORIES:School Calendar
END:VEVENT
BEGIN:VEVENT
DTSTART;TZID=America/New_York:20251002T000000
DTEND;TZID=America/New_York:20251002T235959
DTSTAMP:20260423T115508
CREATED:20250425T231033Z
LAST-MODIFIED:20251002T234321Z
UID:10000918-1759363200-1759449599@essextech-wp-hbhmagetdth4a5ga.eastus2-01.azurewebsites.net
SUMMARY:Day 7 Green
DESCRIPTION:
URL:https://essextech-wp-hbhmagetdth4a5ga.eastus2-01.azurewebsites.net/event/day-7-green-207/
CATEGORIES:School Calendar
END:VEVENT
BEGIN:VEVENT
DTSTART;TZID=America/New_York:20251003T000000
DTEND;TZID=America/New_York:20251003T235959
DTSTAMP:20260423T115508
CREATED:20250425T231034Z
LAST-MODIFIED:20251002T234322Z
UID:10000919-1759449600-1759535999@essextech-wp-hbhmagetdth4a5ga.eastus2-01.azurewebsites.net
SUMMARY:Day 8 Green
DESCRIPTION:
URL:https://essextech-wp-hbhmagetdth4a5ga.eastus2-01.azurewebsites.net/event/day-8-green-144/
CATEGORIES:School Calendar
END:VEVENT
BEGIN:VEVENT
DTSTART;TZID=America/New_York:20251003T000000
DTEND;TZID=America/New_York:20251013T235959
DTSTAMP:20260423T115508
CREATED:20250425T231131Z
LAST-MODIFIED:20251013T232636Z
UID:10000927-1759449600-1760399999@essextech-wp-hbhmagetdth4a5ga.eastus2-01.azurewebsites.net
SUMMARY:Topsfield Fair
DESCRIPTION:
URL:https://essextech-wp-hbhmagetdth4a5ga.eastus2-01.azurewebsites.net/event/topsfield-fair-5/
CATEGORIES:School Calendar
END:VEVENT
BEGIN:VEVENT
DTSTART;TZID=America/New_York:20251004T000000
DTEND;TZID=America/New_York:20251004T235959
DTSTAMP:20260423T115508
CREATED:20250915T232756Z
LAST-MODIFIED:20251004T225615Z
UID:10001156-1759536000-1759622399@essextech-wp-hbhmagetdth4a5ga.eastus2-01.azurewebsites.net
SUMMARY:Saturday Detention
DESCRIPTION:
URL:https://essextech-wp-hbhmagetdth4a5ga.eastus2-01.azurewebsites.net/event/saturday-detention-52/
CATEGORIES:School Calendar
END:VEVENT
END:VCALENDAR