BEGIN:VCALENDAR
VERSION:2.0
PRODID:-//Essex North Shore - ECPv6.10.0//NONSGML v1.0//EN
CALSCALE:GREGORIAN
METHOD:PUBLISH
X-ORIGINAL-URL:https://essextech-wp-hbhmagetdth4a5ga.eastus2-01.azurewebsites.net
X-WR-CALDESC:Events for Essex North Shore
REFRESH-INTERVAL;VALUE=DURATION:PT1H
X-Robots-Tag:noindex
X-PUBLISHED-TTL:PT1H
BEGIN:VTIMEZONE
TZID:America/New_York
BEGIN:DAYLIGHT
TZOFFSETFROM:-0500
TZOFFSETTO:-0400
TZNAME:EDT
DTSTART:20260308T070000
END:DAYLIGHT
BEGIN:STANDARD
TZOFFSETFROM:-0400
TZOFFSETTO:-0500
TZNAME:EST
DTSTART:20261101T060000
END:STANDARD
END:VTIMEZONE
BEGIN:VEVENT
DTSTART;TZID=America/New_York:20260604T000000
DTEND;TZID=America/New_York:20260604T235959
DTSTAMP:20260424T092602
CREATED:20250425T232739Z
LAST-MODIFIED:20260423T225524Z
UID:10001104-1780531200-1780617599@essextech-wp-hbhmagetdth4a5ga.eastus2-01.azurewebsites.net
SUMMARY:Day 7 Green
DESCRIPTION:
URL:https://essextech-wp-hbhmagetdth4a5ga.eastus2-01.azurewebsites.net/event/day-7-green-222/
CATEGORIES:School Calendar
END:VEVENT
BEGIN:VEVENT
DTSTART;TZID=America/New_York:20260604T000000
DTEND;TZID=America/New_York:20260605T235959
DTSTAMP:20260424T092602
CREATED:20250728T230143Z
LAST-MODIFIED:20260423T225600Z
UID:10001127-1780531200-1780703999@essextech-wp-hbhmagetdth4a5ga.eastus2-01.azurewebsites.net
SUMMARY:Grade 10 Biology MCAS Make-Up Dates
DESCRIPTION:
URL:https://essextech-wp-hbhmagetdth4a5ga.eastus2-01.azurewebsites.net/event/grade-10-biology-mcas-back-up-dates-6/
CATEGORIES:School Calendar
END:VEVENT
BEGIN:VEVENT
DTSTART;TZID=America/New_York:20260605T000000
DTEND;TZID=America/New_York:20260605T235959
DTSTAMP:20260424T092602
CREATED:20250425T232655Z
LAST-MODIFIED:20260423T225600Z
UID:10001103-1780617600-1780703999@essextech-wp-hbhmagetdth4a5ga.eastus2-01.azurewebsites.net
SUMMARY:Day 8 Green
DESCRIPTION:
URL:https://essextech-wp-hbhmagetdth4a5ga.eastus2-01.azurewebsites.net/event/day-8-green-158/
CATEGORIES:School Calendar
END:VEVENT
BEGIN:VEVENT
DTSTART;TZID=America/New_York:20260608T000000
DTEND;TZID=America/New_York:20260608T235959
DTSTAMP:20260424T092602
CREATED:20250425T232740Z
LAST-MODIFIED:20260423T225601Z
UID:10001106-1780876800-1780963199@essextech-wp-hbhmagetdth4a5ga.eastus2-01.azurewebsites.net
SUMMARY:Day 4 Blue
DESCRIPTION:
URL:https://essextech-wp-hbhmagetdth4a5ga.eastus2-01.azurewebsites.net/event/day-4-blue-149/
CATEGORIES:School Calendar
END:VEVENT
BEGIN:VEVENT
DTSTART;TZID=America/New_York:20260609T000000
DTEND;TZID=America/New_York:20260609T235959
DTSTAMP:20260424T092602
CREATED:20250425T232741Z
LAST-MODIFIED:20260423T225600Z
UID:10001107-1780963200-1781049599@essextech-wp-hbhmagetdth4a5ga.eastus2-01.azurewebsites.net
SUMMARY:Day 5 Blue
DESCRIPTION:
URL:https://essextech-wp-hbhmagetdth4a5ga.eastus2-01.azurewebsites.net/event/day-5-blue-196/
CATEGORIES:School Calendar
END:VEVENT
BEGIN:VEVENT
DTSTART;TZID=America/New_York:20260610T000000
DTEND;TZID=America/New_York:20260610T235959
DTSTAMP:20260424T092602
CREATED:20250425T232742Z
LAST-MODIFIED:20260423T225601Z
UID:10001108-1781049600-1781135999@essextech-wp-hbhmagetdth4a5ga.eastus2-01.azurewebsites.net
SUMMARY:Day 1 Blue
DESCRIPTION:
URL:https://essextech-wp-hbhmagetdth4a5ga.eastus2-01.azurewebsites.net/event/day-1-blue-218/
CATEGORIES:School Calendar
END:VEVENT
BEGIN:VEVENT
DTSTART;TZID=America/New_York:20260611T000000
DTEND;TZID=America/New_York:20260611T235959
DTSTAMP:20260424T092602
CREATED:20250425T232743Z
LAST-MODIFIED:20260423T225601Z
UID:10001109-1781136000-1781222399@essextech-wp-hbhmagetdth4a5ga.eastus2-01.azurewebsites.net
SUMMARY:Day 2 Blue
DESCRIPTION:
URL:https://essextech-wp-hbhmagetdth4a5ga.eastus2-01.azurewebsites.net/event/day-2-blue-174/
CATEGORIES:School Calendar
END:VEVENT
BEGIN:VEVENT
DTSTART;TZID=America/New_York:20260611T173000
DTEND;TZID=America/New_York:20260611T183000
DTSTAMP:20260424T092602
CREATED:20250728T230258Z
LAST-MODIFIED:20260423T225601Z
UID:10001130-1781199000-1781202600@essextech-wp-hbhmagetdth4a5ga.eastus2-01.azurewebsites.net
SUMMARY:School Committee Meeting
DESCRIPTION:
URL:https://essextech-wp-hbhmagetdth4a5ga.eastus2-01.azurewebsites.net/event/school-committee-meeting-112/
CATEGORIES:School Calendar
END:VEVENT
BEGIN:VEVENT
DTSTART;TZID=America/New_York:20260612T000000
DTEND;TZID=America/New_York:20260612T235959
DTSTAMP:20260424T092602
CREATED:20250425T232744Z
LAST-MODIFIED:20260423T225602Z
UID:10001110-1781222400-1781308799@essextech-wp-hbhmagetdth4a5ga.eastus2-01.azurewebsites.net
SUMMARY:Day 3 Blue
DESCRIPTION:
URL:https://essextech-wp-hbhmagetdth4a5ga.eastus2-01.azurewebsites.net/event/day-3-blue-150/
CATEGORIES:School Calendar
END:VEVENT
BEGIN:VEVENT
DTSTART;TZID=America/New_York:20260612T000000
DTEND;TZID=America/New_York:20260612T235959
DTSTAMP:20260424T092602
CREATED:20250425T232746Z
LAST-MODIFIED:20260128T232634Z
UID:10001112-1781222400-1781308799@essextech-wp-hbhmagetdth4a5ga.eastus2-01.azurewebsites.net
SUMMARY:4th Quarter Ends
DESCRIPTION:
URL:https://essextech-wp-hbhmagetdth4a5ga.eastus2-01.azurewebsites.net/event/4th-quarter-ends-3/
CATEGORIES:School Calendar
END:VEVENT
BEGIN:VEVENT
DTSTART;TZID=America/New_York:20260612T000000
DTEND;TZID=America/New_York:20260612T235959
DTSTAMP:20260424T092602
CREATED:20260129T234115Z
LAST-MODIFIED:20260423T225638Z
UID:10001234-1781222400-1781308799@essextech-wp-hbhmagetdth4a5ga.eastus2-01.azurewebsites.net
SUMMARY:Day 3 Blue
DESCRIPTION:
URL:https://essextech-wp-hbhmagetdth4a5ga.eastus2-01.azurewebsites.net/event/day-3-blue-151/
CATEGORIES:School Calendar
END:VEVENT
BEGIN:VEVENT
DTSTART;TZID=America/New_York:20260612T110200
DTEND;TZID=America/New_York:20260612T120200
DTSTAMP:20260424T092602
CREATED:20250425T232745Z
LAST-MODIFIED:20260128T232633Z
UID:10001111-1781262120-1781265720@essextech-wp-hbhmagetdth4a5ga.eastus2-01.azurewebsites.net
SUMMARY:Last Day of School - Early Release
DESCRIPTION:
URL:https://essextech-wp-hbhmagetdth4a5ga.eastus2-01.azurewebsites.net/event/last-day-of-school-early-release-13/
CATEGORIES:School Calendar
END:VEVENT
BEGIN:VEVENT
DTSTART;TZID=America/New_York:20260615T000000
DTEND;TZID=America/New_York:20260615T235959
DTSTAMP:20260424T092602
CREATED:20260129T234152Z
LAST-MODIFIED:20260423T225639Z
UID:10001235-1781481600-1781567999@essextech-wp-hbhmagetdth4a5ga.eastus2-01.azurewebsites.net
SUMMARY:Day 4 Blue
DESCRIPTION:
URL:https://essextech-wp-hbhmagetdth4a5ga.eastus2-01.azurewebsites.net/event/day-4-blue-150/
CATEGORIES:School Calendar
END:VEVENT
BEGIN:VEVENT
DTSTART;TZID=America/New_York:20260615T000000
DTEND;TZID=America/New_York:20260622T235959
DTSTAMP:20260424T092602
CREATED:20250425T232746Z
LAST-MODIFIED:20260423T225716Z
UID:10001113-1781481600-1782172799@essextech-wp-hbhmagetdth4a5ga.eastus2-01.azurewebsites.net
SUMMARY:Make Up Days for Cancellations
DESCRIPTION:
URL:https://essextech-wp-hbhmagetdth4a5ga.eastus2-01.azurewebsites.net/event/make-up-days-for-cancellations-5/
CATEGORIES:School Calendar
END:VEVENT
BEGIN:VEVENT
DTSTART;TZID=America/New_York:20260615T183000
DTEND;TZID=America/New_York:20260615T193000
DTSTAMP:20260424T092602
CREATED:20250930T231752Z
LAST-MODIFIED:20260423T225638Z
UID:10001201-1781548200-1781551800@essextech-wp-hbhmagetdth4a5ga.eastus2-01.azurewebsites.net
SUMMARY:PTO Meeting
DESCRIPTION:
URL:https://essextech-wp-hbhmagetdth4a5ga.eastus2-01.azurewebsites.net/event/pto-meeting-23/
CATEGORIES:School Calendar
END:VEVENT
BEGIN:VEVENT
DTSTART;TZID=America/New_York:20260616T000000
DTEND;TZID=America/New_York:20260616T235959
DTSTAMP:20260424T092602
CREATED:20260129T234153Z
LAST-MODIFIED:20260423T225639Z
UID:10001237-1781568000-1781654399@essextech-wp-hbhmagetdth4a5ga.eastus2-01.azurewebsites.net
SUMMARY:Day 5 Blue
DESCRIPTION:
URL:https://essextech-wp-hbhmagetdth4a5ga.eastus2-01.azurewebsites.net/event/day-5-blue-197/
CATEGORIES:School Calendar
END:VEVENT
BEGIN:VEVENT
DTSTART;TZID=America/New_York:20260616T000000
DTEND;TZID=America/New_York:20260616T235959
DTSTAMP:20260424T092602
CREATED:20260129T234154Z
LAST-MODIFIED:20260317T231127Z
UID:10001238-1781568000-1781654399@essextech-wp-hbhmagetdth4a5ga.eastus2-01.azurewebsites.net
SUMMARY:Quarter 4th ends
DESCRIPTION:
URL:https://essextech-wp-hbhmagetdth4a5ga.eastus2-01.azurewebsites.net/event/quarter-4th-ends-3/
CATEGORIES:School Calendar
END:VEVENT
BEGIN:VEVENT
DTSTART;TZID=America/New_York:20260616T110000
DTEND;TZID=America/New_York:20260616T120000
DTSTAMP:20260424T092602
CREATED:20260129T234153Z
LAST-MODIFIED:20260317T231047Z
UID:10001236-1781607600-1781611200@essextech-wp-hbhmagetdth4a5ga.eastus2-01.azurewebsites.net
SUMMARY:Last Day of School - Early Release
DESCRIPTION:
URL:https://essextech-wp-hbhmagetdth4a5ga.eastus2-01.azurewebsites.net/event/last-day-of-school-early-release-14/
CATEGORIES:School Calendar
END:VEVENT
BEGIN:VEVENT
DTSTART;TZID=America/New_York:20260617T000000
DTEND;TZID=America/New_York:20260617T235959
DTSTAMP:20260424T092602
CREATED:20260318T232731Z
LAST-MODIFIED:20260423T225639Z
UID:10001259-1781654400-1781740799@essextech-wp-hbhmagetdth4a5ga.eastus2-01.azurewebsites.net
SUMMARY:Day 6 Green
DESCRIPTION:
URL:https://essextech-wp-hbhmagetdth4a5ga.eastus2-01.azurewebsites.net/event/day-6-green-224/
CATEGORIES:School Calendar
END:VEVENT
BEGIN:VEVENT
DTSTART;TZID=America/New_York:20260618T000000
DTEND;TZID=America/New_York:20260618T235959
DTSTAMP:20260424T092602
CREATED:20260318T232644Z
LAST-MODIFIED:20260423T225640Z
UID:10001256-1781740800-1781827199@essextech-wp-hbhmagetdth4a5ga.eastus2-01.azurewebsites.net
SUMMARY:4th Quarter Ends
DESCRIPTION:
URL:https://essextech-wp-hbhmagetdth4a5ga.eastus2-01.azurewebsites.net/event/4th-quarter-ends-4/
CATEGORIES:School Calendar
END:VEVENT
BEGIN:VEVENT
DTSTART;TZID=America/New_York:20260618T000000
DTEND;TZID=America/New_York:20260618T235959
DTSTAMP:20260424T092602
CREATED:20260318T232730Z
LAST-MODIFIED:20260423T225640Z
UID:10001258-1781740800-1781827199@essextech-wp-hbhmagetdth4a5ga.eastus2-01.azurewebsites.net
SUMMARY:Day 7 Green
DESCRIPTION:
URL:https://essextech-wp-hbhmagetdth4a5ga.eastus2-01.azurewebsites.net/event/day-7-green-223/
CATEGORIES:School Calendar
END:VEVENT
BEGIN:VEVENT
DTSTART;TZID=America/New_York:20260618T110000
DTEND;TZID=America/New_York:20260618T120000
DTSTAMP:20260424T092602
CREATED:20260318T232645Z
LAST-MODIFIED:20260423T225640Z
UID:10001257-1781780400-1781784000@essextech-wp-hbhmagetdth4a5ga.eastus2-01.azurewebsites.net
SUMMARY:Last Day of School - Early Release
DESCRIPTION:
URL:https://essextech-wp-hbhmagetdth4a5ga.eastus2-01.azurewebsites.net/event/last-day-of-school-early-release-15/
CATEGORIES:School Calendar
END:VEVENT
BEGIN:VEVENT
DTSTART;TZID=America/New_York:20260619T000000
DTEND;TZID=America/New_York:20260619T235959
DTSTAMP:20260424T092603
CREATED:20250426T235826Z
LAST-MODIFIED:20260423T225640Z
UID:10001114-1781827200-1781913599@essextech-wp-hbhmagetdth4a5ga.eastus2-01.azurewebsites.net
SUMMARY:Juneteenth Holiday - No School
DESCRIPTION:
URL:https://essextech-wp-hbhmagetdth4a5ga.eastus2-01.azurewebsites.net/event/juneteenth-holiday-no-school-2/
CATEGORIES:School Calendar
END:VEVENT
BEGIN:VEVENT
DTSTART;TZID=America/New_York:20260825T180000
DTEND;TZID=America/New_York:20260825T200000
DTSTAMP:20260424T092603
CREATED:20260421T235749Z
LAST-MODIFIED:20260423T225716Z
UID:10001266-1787680800-1787688000@essextech-wp-hbhmagetdth4a5ga.eastus2-01.azurewebsites.net
SUMMARY:New Parent Night
DESCRIPTION:
URL:https://essextech-wp-hbhmagetdth4a5ga.eastus2-01.azurewebsites.net/event/new-parent-night-6/
CATEGORIES:School Calendar
END:VEVENT
BEGIN:VEVENT
DTSTART;TZID=America/New_York:20260827T073000
DTEND;TZID=America/New_York:20260827T120000
DTSTAMP:20260424T092603
CREATED:20260421T235750Z
LAST-MODIFIED:20260423T225717Z
UID:10001267-1787815800-1787832000@essextech-wp-hbhmagetdth4a5ga.eastus2-01.azurewebsites.net
SUMMARY:Freshman Orientation
DESCRIPTION:
URL:https://essextech-wp-hbhmagetdth4a5ga.eastus2-01.azurewebsites.net/event/freshman-orientation-8/
CATEGORIES:School Calendar
END:VEVENT
BEGIN:VEVENT
DTSTART;TZID=America/New_York:20260831T000000
DTEND;TZID=America/New_York:20260901T235959
DTSTAMP:20260424T092603
CREATED:20260421T235750Z
LAST-MODIFIED:20260423T225718Z
UID:10001268-1788134400-1788307199@essextech-wp-hbhmagetdth4a5ga.eastus2-01.azurewebsites.net
SUMMARY:Professional Development-No School for Students
DESCRIPTION:
URL:https://essextech-wp-hbhmagetdth4a5ga.eastus2-01.azurewebsites.net/event/professional-development-no-school-for-students-10/
CATEGORIES:School Calendar
END:VEVENT
BEGIN:VEVENT
DTSTART;TZID=America/New_York:20260901T000000
DTEND;TZID=America/New_York:20260901T235959
DTSTAMP:20260424T092603
CREATED:20260421T235751Z
LAST-MODIFIED:20260423T225717Z
UID:10001269-1788220800-1788307199@essextech-wp-hbhmagetdth4a5ga.eastus2-01.azurewebsites.net
SUMMARY:(Hispanic Heritage Month begins 9/15)
DESCRIPTION:
URL:https://essextech-wp-hbhmagetdth4a5ga.eastus2-01.azurewebsites.net/event/hispanic-heritage-month-begins-9-15-6/
CATEGORIES:School Calendar
END:VEVENT
BEGIN:VEVENT
DTSTART;TZID=America/New_York:20260902T000000
DTEND;TZID=America/New_York:20260902T235959
DTSTAMP:20260424T092603
CREATED:20260421T235753Z
LAST-MODIFIED:20260423T225719Z
UID:10001271-1788307200-1788393599@essextech-wp-hbhmagetdth4a5ga.eastus2-01.azurewebsites.net
SUMMARY:Day 1 Blue
DESCRIPTION:
URL:https://essextech-wp-hbhmagetdth4a5ga.eastus2-01.azurewebsites.net/event/day-1-blue-219/
CATEGORIES:School Calendar
END:VEVENT
BEGIN:VEVENT
DTSTART;TZID=America/New_York:20260902T000000
DTEND;TZID=America/New_York:20260902T235959
DTSTAMP:20260424T092603
CREATED:20260421T235754Z
LAST-MODIFIED:20260423T225718Z
UID:10001272-1788307200-1788393599@essextech-wp-hbhmagetdth4a5ga.eastus2-01.azurewebsites.net
SUMMARY:1st Day for Students-Day #1
DESCRIPTION:
URL:https://essextech-wp-hbhmagetdth4a5ga.eastus2-01.azurewebsites.net/event/1st-day-for-students-day-1-5/
CATEGORIES:School Calendar
END:VEVENT
BEGIN:VEVENT
DTSTART;TZID=America/New_York:20260902T000000
DTEND;TZID=America/New_York:20260902T235959
DTSTAMP:20260424T092603
CREATED:20260421T235755Z
LAST-MODIFIED:20260423T225717Z
UID:10001273-1788307200-1788393599@essextech-wp-hbhmagetdth4a5ga.eastus2-01.azurewebsites.net
SUMMARY:Faculty Meeting
DESCRIPTION:
URL:https://essextech-wp-hbhmagetdth4a5ga.eastus2-01.azurewebsites.net/event/faculty-meeting-47/
CATEGORIES:School Calendar
END:VEVENT
END:VCALENDAR